BEGIN:VCALENDAR
VERSION:2.0
PRODID:-//Princeton Tourism - ECPv6.15.20//NONSGML v1.0//EN
CALSCALE:GREGORIAN
METHOD:PUBLISH
X-WR-CALNAME:Princeton Tourism
X-ORIGINAL-URL:https://princetontourism.org
X-WR-CALDESC:Events for Princeton Tourism
REFRESH-INTERVAL;VALUE=DURATION:PT1H
X-Robots-Tag:noindex
X-PUBLISHED-TTL:PT1H
BEGIN:VTIMEZONE
TZID:UTC
BEGIN:STANDARD
TZOFFSETFROM:+0000
TZOFFSETTO:+0000
TZNAME:UTC
DTSTART:20240101T000000
END:STANDARD
END:VTIMEZONE
BEGIN:VEVENT
DTSTART;VALUE=DATE:20251129
DTEND;VALUE=DATE:20251130
DTSTAMP:20260425T220710
CREATED:20250124T161739Z
LAST-MODIFIED:20250124T161739Z
UID:232254-1764374400-1764460799@princetontourism.org
SUMMARY:Small Business Saturday
DESCRIPTION:Support Local\, Shop Small in Princeton\, IL this Small Business Saturday on November 29th!\n\nGingerbread Workshop at the Prouty Building from 11:00-1:00pm!\n\nMake a difference by shopping small this season. Show your love for Princeton by investing in the growth and success of our community. Every purchase made locally contributes to the vitality and prosperity of our town.\n\n\n\n\n\nJoin us in embracing the spirit of our Historic Main Street\, the backbone of Princeton\, Illinois.
URL:https://princetontourism.org/event/small-business-saturday-2/
LOCATION:Princeton\, Illinois\, Princeton\, IL\, 61356\, United States
CATEGORIES:event
ATTACH;FMTTYPE=image/jpeg:https://princetontourism.org/wp-content/uploads/2024/04/small.business.saturday.jpg
ORGANIZER;CN="Princeton Tourism":MAILTO:tourism@princeton-il.com
END:VEVENT
BEGIN:VEVENT
DTSTART;TZID=UTC:20251129T110000
DTEND;TZID=UTC:20251129T140000
DTSTAMP:20260425T220710
CREATED:20250124T162047Z
LAST-MODIFIED:20251119T153030Z
UID:232256-1764414000-1764424800@princetontourism.org
SUMMARY:Visits with Santa and Mrs. Claus\, Cookie Wonderland & Project Holiday Cheer
DESCRIPTION:Support Local\, Shop Small in Princeton\, IL this Small Business Saturday on November 29th!\n\nGingerbread Workshop at the Prouty Building from 11:00-2:00pm!\n\nMake a difference by shopping small this season. Show your love for Princeton by investing in the growth and success of our community. Every purchase made locally contributes to the vitality and prosperity of our town.\n\n\n\n\n\nJoin us in embracing the spirit of our Historic Main Street\, the backbone of Princeton\, Illinois.
URL:https://princetontourism.org/event/gingerbread-house-workshop-and-santa-mrs-clause-visits/
LOCATION:Princeton\, Illinois\, Princeton\, IL\, 61356\, United States
CATEGORIES:event
ATTACH;FMTTYPE=image/jpeg:https://princetontourism.org/wp-content/uploads/2025/01/santa.jpg
ORGANIZER;CN="Princeton Tourism":MAILTO:tourism@princeton-il.com
END:VEVENT
BEGIN:VEVENT
DTSTART;TZID=UTC:20251129T170000
DTEND;TZID=UTC:20251129T210000
DTSTAMP:20260425T220710
CREATED:20251105T220846Z
LAST-MODIFIED:20251105T220846Z
UID:232807-1764435600-1764450000@princetontourism.org
SUMMARY:Home for the Holidays Christmas Light Drive Thru
DESCRIPTION:Home for the Holidays Christmas Light Drive Thru\n\nFriday-Sunday\, November 28th-December 21st & December 22nd-25th | Bureau County Fairgrounds\nFridays & Saturdays 5-9PM\, Sundays 5-8PM
URL:https://princetontourism.org/event/home-for-the-holidays-christmas-light-drive-thru-2/
LOCATION:Bureau County Fairgrounds\, 811 West Peru Street\, Princeton\, IL\, 61356\, United States
CATEGORIES:event
ATTACH;FMTTYPE=image/jpeg:https://princetontourism.org/wp-content/uploads/2025/11/home-for-the-holidays-lights.jpg
END:VEVENT
END:VCALENDAR