BEGIN:VCALENDAR
VERSION:2.0
PRODID:-//Princeton Tourism - ECPv6.15.20//NONSGML v1.0//EN
CALSCALE:GREGORIAN
METHOD:PUBLISH
X-ORIGINAL-URL:https://princetontourism.org
X-WR-CALDESC:Events for Princeton Tourism
REFRESH-INTERVAL;VALUE=DURATION:PT1H
X-Robots-Tag:noindex
X-PUBLISHED-TTL:PT1H
BEGIN:VTIMEZONE
TZID:UTC
BEGIN:STANDARD
TZOFFSETFROM:+0000
TZOFFSETTO:+0000
TZNAME:UTC
DTSTART:20240101T000000
END:STANDARD
END:VTIMEZONE
BEGIN:VEVENT
DTSTART;VALUE=DATE:20251202
DTEND;VALUE=DATE:20251203
DTSTAMP:20260425T174527
CREATED:20250124T162512Z
LAST-MODIFIED:20250124T162512Z
UID:232259-1764633600-1764719999@princetontourism.org
SUMMARY:Giving Tuesday!
DESCRIPTION:
URL:https://princetontourism.org/event/giving-tuesday/
CATEGORIES:event
ATTACH;FMTTYPE=image/png:https://princetontourism.org/wp-content/uploads/2025/01/GivingTuesday-logo.png
END:VEVENT
END:VCALENDAR